BEGIN:VCALENDAR
VERSION:2.0
PRODID:-//Fire and Ice On Toby Creek - ECPv6.15.17//NONSGML v1.0//EN
CALSCALE:GREGORIAN
METHOD:PUBLISH
X-ORIGINAL-URL:https://fireandiceontobycreek.com
X-WR-CALDESC:Events for Fire and Ice On Toby Creek
REFRESH-INTERVAL;VALUE=DURATION:PT1H
X-Robots-Tag:noindex
X-PUBLISHED-TTL:PT1H
BEGIN:VTIMEZONE
TZID:America/New_York
BEGIN:DAYLIGHT
TZOFFSETFROM:-0500
TZOFFSETTO:-0400
TZNAME:EDT
DTSTART:20240310T070000
END:DAYLIGHT
BEGIN:STANDARD
TZOFFSETFROM:-0400
TZOFFSETTO:-0500
TZNAME:EST
DTSTART:20241103T060000
END:STANDARD
BEGIN:DAYLIGHT
TZOFFSETFROM:-0500
TZOFFSETTO:-0400
TZNAME:EDT
DTSTART:20250309T070000
END:DAYLIGHT
BEGIN:STANDARD
TZOFFSETFROM:-0400
TZOFFSETTO:-0500
TZNAME:EST
DTSTART:20251102T060000
END:STANDARD
BEGIN:DAYLIGHT
TZOFFSETFROM:-0500
TZOFFSETTO:-0400
TZNAME:EDT
DTSTART:20260308T070000
END:DAYLIGHT
BEGIN:STANDARD
TZOFFSETFROM:-0400
TZOFFSETTO:-0500
TZNAME:EST
DTSTART:20261101T060000
END:STANDARD
END:VTIMEZONE
BEGIN:VEVENT
DTSTART;TZID=America/New_York:20251207T110000
DTEND;TZID=America/New_York:20251207T140000
DTSTAMP:20260421T055500
CREATED:20251023T203518Z
LAST-MODIFIED:20251023T203710Z
UID:2419-1765105200-1765116000@fireandiceontobycreek.com
SUMMARY:FIRE & ICE - Santa Brunch
DESCRIPTION:
URL:https://fireandiceontobycreek.com/events/fire-ice-santa-brunch/
LOCATION:Fire and Ice On Toby Creek\, 111 S Main St\,\, Trucksville\, PA\, 18708\, United States
CATEGORIES:HOLIDAY
ATTACH;FMTTYPE=image/jpeg:https://fireandiceontobycreek.com/wp-content/uploads/2025/10/fI-santa-brunch-flyer.jpeg
END:VEVENT
BEGIN:VEVENT
DTSTART;TZID=America/New_York:20251217T053000
DTEND;TZID=America/New_York:20251217T193000
DTSTAMP:20260421T055500
CREATED:20251113T184644Z
LAST-MODIFIED:20251113T184644Z
UID:2452-1765949400-1765999800@fireandiceontobycreek.com
SUMMARY:FIRE & ICE - Wine Girl Wednesday / Christmas
DESCRIPTION:
URL:https://fireandiceontobycreek.com/events/fire-ice-wine-girl-wednesday-christmas/
LOCATION:Fire and Ice On Toby Creek\, 111 S Main St\,\, Trucksville\, PA\, 18708\, United States
CATEGORIES:Cocktail Class,Wine Girl Wednesday
ATTACH;FMTTYPE=image/jpeg:https://fireandiceontobycreek.com/wp-content/uploads/2025/11/WGW-Christmas.jpg
END:VEVENT
BEGIN:VEVENT
DTSTART;TZID=America/New_York:20251218T060000
DTEND;TZID=America/New_York:20251218T200000
DTSTAMP:20260421T055500
CREATED:20251112T185035Z
LAST-MODIFIED:20251112T185035Z
UID:2450-1766037600-1766088000@fireandiceontobycreek.com
SUMMARY:FIRE & ICE - Cocktail Class / The Manhattan
DESCRIPTION:
URL:https://fireandiceontobycreek.com/events/fire-ice-cocktail-class-the-manhattan/
LOCATION:Fire and Ice On Toby Creek\, 111 S Main St\,\, Trucksville\, PA\, 18708\, United States
CATEGORIES:Cocktail Class
ATTACH;FMTTYPE=image/jpeg:https://fireandiceontobycreek.com/wp-content/uploads/2025/11/FI-Cocktail-Class-Manhattan.jpg
END:VEVENT
BEGIN:VEVENT
DTSTART;VALUE=DATE:20251224
DTEND;VALUE=DATE:20251225
DTSTAMP:20260421T055500
CREATED:20251210T203910Z
LAST-MODIFIED:20251210T203910Z
UID:2477-1766534400-1766620799@fireandiceontobycreek.com
SUMMARY:FIRE & ICE - Closed for Lunch
DESCRIPTION:
URL:https://fireandiceontobycreek.com/events/fire-ice-closed-for-lunch-2/
LOCATION:Fire and Ice On Toby Creek\, 111 S Main St\,\, Trucksville\, PA\, 18708\, United States
CATEGORIES:HOLIDAY
ATTACH;FMTTYPE=image/jpeg:https://fireandiceontobycreek.com/wp-content/uploads/2025/12/1.jpg
END:VEVENT
BEGIN:VEVENT
DTSTART;TZID=America/New_York:20251224T160000
DTEND;TZID=America/New_York:20251224T210000
DTSTAMP:20260421T055500
CREATED:20251204T170638Z
LAST-MODIFIED:20251211T165609Z
UID:2464-1766592000-1766610000@fireandiceontobycreek.com
SUMMARY:FIRE & ICE - Christmas Eve
DESCRIPTION:
URL:https://fireandiceontobycreek.com/events/fire-ice-christmas-eve/
LOCATION:Fire and Ice On Toby Creek\, 111 S Main St\,\, Trucksville\, PA\, 18708\, United States
CATEGORIES:HOLIDAY
ATTACH;FMTTYPE=image/jpeg:https://fireandiceontobycreek.com/wp-content/uploads/2025/12/page-2-1.jpg
END:VEVENT
BEGIN:VEVENT
DTSTART;VALUE=DATE:20251231
DTEND;VALUE=DATE:20260101
DTSTAMP:20260421T055500
CREATED:20251210T204045Z
LAST-MODIFIED:20251210T204045Z
UID:2480-1767139200-1767225599@fireandiceontobycreek.com
SUMMARY:FIRE & ICE - Closed for Lunch
DESCRIPTION:
URL:https://fireandiceontobycreek.com/events/fire-ice-closed-for-lunch-3/
LOCATION:Fire and Ice On Toby Creek\, 111 S Main St\,\, Trucksville\, PA\, 18708\, United States
CATEGORIES:HOLIDAY
ATTACH;FMTTYPE=image/jpeg:https://fireandiceontobycreek.com/wp-content/uploads/2025/12/1.jpg
END:VEVENT
BEGIN:VEVENT
DTSTART;TZID=America/New_York:20251231T160000
DTEND;TZID=America/New_York:20251231T210000
DTSTAMP:20260421T055500
CREATED:20251204T170752Z
LAST-MODIFIED:20251204T170752Z
UID:2465-1767196800-1767214800@fireandiceontobycreek.com
SUMMARY:FIRE & ICE - Holiday Hours
DESCRIPTION:
URL:https://fireandiceontobycreek.com/events/fire-ice-holiday-hours-2/
LOCATION:Fire and Ice On Toby Creek\, 111 S Main St\,\, Trucksville\, PA\, 18708\, United States
CATEGORIES:HOLIDAY
ATTACH;FMTTYPE=image/jpeg:https://fireandiceontobycreek.com/wp-content/uploads/2025/12/fire-Ice.jpg
END:VEVENT
BEGIN:VEVENT
DTSTART;TZID=America/New_York:20251231T160000
DTEND;TZID=America/New_York:20251231T210000
DTSTAMP:20260421T055500
CREATED:20251223T200737Z
LAST-MODIFIED:20251223T200737Z
UID:2502-1767196800-1767214800@fireandiceontobycreek.com
SUMMARY:FIRE & ICE - New Years Eve
DESCRIPTION:
URL:https://fireandiceontobycreek.com/events/fire-ice-new-years-eve/
LOCATION:Fire and Ice On Toby Creek\, 111 S Main St\,\, Trucksville\, PA\, 18708\, United States
CATEGORIES:HOLIDAY
END:VEVENT
END:VCALENDAR