BEGIN:VCALENDAR
VERSION:2.0
PRODID:-//Fire and Ice On Toby Creek - ECPv6.15.17//NONSGML v1.0//EN
CALSCALE:GREGORIAN
METHOD:PUBLISH
X-ORIGINAL-URL:https://fireandiceontobycreek.com
X-WR-CALDESC:Events for Fire and Ice On Toby Creek
REFRESH-INTERVAL;VALUE=DURATION:PT1H
X-Robots-Tag:noindex
X-PUBLISHED-TTL:PT1H
BEGIN:VTIMEZONE
TZID:America/New_York
BEGIN:DAYLIGHT
TZOFFSETFROM:-0500
TZOFFSETTO:-0400
TZNAME:EDT
DTSTART:20250309T070000
END:DAYLIGHT
BEGIN:STANDARD
TZOFFSETFROM:-0400
TZOFFSETTO:-0500
TZNAME:EST
DTSTART:20251102T060000
END:STANDARD
BEGIN:DAYLIGHT
TZOFFSETFROM:-0500
TZOFFSETTO:-0400
TZNAME:EDT
DTSTART:20260308T070000
END:DAYLIGHT
BEGIN:STANDARD
TZOFFSETFROM:-0400
TZOFFSETTO:-0500
TZNAME:EST
DTSTART:20261101T060000
END:STANDARD
BEGIN:DAYLIGHT
TZOFFSETFROM:-0500
TZOFFSETTO:-0400
TZNAME:EDT
DTSTART:20270314T070000
END:DAYLIGHT
BEGIN:STANDARD
TZOFFSETFROM:-0400
TZOFFSETTO:-0500
TZNAME:EST
DTSTART:20271107T060000
END:STANDARD
END:VTIMEZONE
BEGIN:VEVENT
DTSTART;TZID=America/New_York:20260203T160000
DTEND;TZID=America/New_York:20260203T210000
DTSTAMP:20260420T051326
CREATED:20260115T180047Z
LAST-MODIFIED:20260115T180047Z
UID:2519-1770134400-1770152400@fireandiceontobycreek.com
SUMMARY:FIRE & ICE - Two for Tuesday
DESCRIPTION:
URL:https://fireandiceontobycreek.com/events/fire-ice-two-for-tuesday-3/
LOCATION:Fire and Ice On Toby Creek\, 111 S Main St\,\, Trucksville\, PA\, 18708\, United States
ATTACH;FMTTYPE=image/jpeg:https://fireandiceontobycreek.com/wp-content/uploads/2026/01/FI-Two-for-tuesday.jpg
END:VEVENT
BEGIN:VEVENT
DTSTART;TZID=America/New_York:20260210T160000
DTEND;TZID=America/New_York:20260210T210000
DTSTAMP:20260420T051326
CREATED:20260115T180111Z
LAST-MODIFIED:20260115T180111Z
UID:2520-1770739200-1770757200@fireandiceontobycreek.com
SUMMARY:FIRE & ICE - Two for Tuesday
DESCRIPTION:
URL:https://fireandiceontobycreek.com/events/fire-ice-two-for-tuesday-4/
LOCATION:Fire and Ice On Toby Creek\, 111 S Main St\,\, Trucksville\, PA\, 18708\, United States
ATTACH;FMTTYPE=image/jpeg:https://fireandiceontobycreek.com/wp-content/uploads/2026/01/FI-Two-for-tuesday.jpg
END:VEVENT
BEGIN:VEVENT
DTSTART;TZID=America/New_York:20260211T180000
DTEND;TZID=America/New_York:20260211T193000
DTSTAMP:20260420T051326
CREATED:20260121T201043Z
LAST-MODIFIED:20260121T201043Z
UID:2531-1770832800-1770838200@fireandiceontobycreek.com
SUMMARY:FIRE & ICE - Cocktail Class / Champagne
DESCRIPTION:
URL:https://fireandiceontobycreek.com/events/fire-ice-cocktail-class-champagne/
LOCATION:Fire and Ice On Toby Creek\, 111 S Main St\,\, Trucksville\, PA\, 18708\, United States
CATEGORIES:Cocktail Class
ATTACH;FMTTYPE=image/jpeg:https://fireandiceontobycreek.com/wp-content/uploads/2026/01/CHAMPAGNE-.jpg
END:VEVENT
BEGIN:VEVENT
DTSTART;TZID=America/New_York:20260217T160000
DTEND;TZID=America/New_York:20260217T210000
DTSTAMP:20260420T051326
CREATED:20260115T180131Z
LAST-MODIFIED:20260115T180131Z
UID:2521-1771344000-1771362000@fireandiceontobycreek.com
SUMMARY:FIRE & ICE - Two for Tuesday
DESCRIPTION:
URL:https://fireandiceontobycreek.com/events/fire-ice-two-for-tuesday-5/
LOCATION:Fire and Ice On Toby Creek\, 111 S Main St\,\, Trucksville\, PA\, 18708\, United States
ATTACH;FMTTYPE=image/jpeg:https://fireandiceontobycreek.com/wp-content/uploads/2026/01/FI-Two-for-tuesday.jpg
END:VEVENT
BEGIN:VEVENT
DTSTART;TZID=America/New_York:20260224T160000
DTEND;TZID=America/New_York:20260224T210000
DTSTAMP:20260420T051326
CREATED:20260115T180151Z
LAST-MODIFIED:20260115T180151Z
UID:2522-1771948800-1771966800@fireandiceontobycreek.com
SUMMARY:FIRE & ICE - Two for Tuesday
DESCRIPTION:
URL:https://fireandiceontobycreek.com/events/fire-ice-two-for-tuesday-6/
LOCATION:Fire and Ice On Toby Creek\, 111 S Main St\,\, Trucksville\, PA\, 18708\, United States
ATTACH;FMTTYPE=image/jpeg:https://fireandiceontobycreek.com/wp-content/uploads/2026/01/FI-Two-for-tuesday.jpg
END:VEVENT
BEGIN:VEVENT
DTSTART;TZID=America/New_York:20260226T160000
DTEND;TZID=America/New_York:20260226T210000
DTSTAMP:20260420T051326
CREATED:20260224T204339Z
LAST-MODIFIED:20260224T204339Z
UID:2565-1772121600-1772139600@fireandiceontobycreek.com
SUMMARY:FIRE & ICE - Tide to Table
DESCRIPTION:
URL:https://fireandiceontobycreek.com/events/fire-ice-tide-to-table-4/
LOCATION:Fire and Ice On Toby Creek\, 111 S Main St\,\, Trucksville\, PA\, 18708\, United States
ATTACH;FMTTYPE=image/jpeg:https://fireandiceontobycreek.com/wp-content/uploads/2026/01/616828160_1677104550266003_3412198051739576019_n.jpg
END:VEVENT
BEGIN:VEVENT
DTSTART;TZID=America/New_York:20260226T180000
DTEND;TZID=America/New_York:20260226T203000
DTSTAMP:20260420T051326
CREATED:20260203T135246Z
LAST-MODIFIED:20260203T135246Z
UID:2540-1772128800-1772137800@fireandiceontobycreek.com
SUMMARY:FIRE & ICE - Italian Chef's Dinner
DESCRIPTION:
URL:https://fireandiceontobycreek.com/events/fire-ice-italian-chefs-dinner/
LOCATION:Fire and Ice On Toby Creek\, 111 S Main St\,\, Trucksville\, PA\, 18708\, United States
CATEGORIES:Special Event
ATTACH;FMTTYPE=image/jpeg:https://fireandiceontobycreek.com/wp-content/uploads/2026/02/623803002_1686219736021151_2957749977902118644_n.jpg
END:VEVENT
BEGIN:VEVENT
DTSTART;TZID=America/New_York:20260227T160000
DTEND;TZID=America/New_York:20260227T220000
DTSTAMP:20260420T051326
CREATED:20260224T204312Z
LAST-MODIFIED:20260224T204450Z
UID:2564-1772208000-1772229600@fireandiceontobycreek.com
SUMMARY:FIRE & ICE - Tide to Table
DESCRIPTION:
URL:https://fireandiceontobycreek.com/events/fire-ice-tide-to-table-3/
LOCATION:Fire and Ice On Toby Creek\, 111 S Main St\,\, Trucksville\, PA\, 18708\, United States
ATTACH;FMTTYPE=image/jpeg:https://fireandiceontobycreek.com/wp-content/uploads/2026/01/616828160_1677104550266003_3412198051739576019_n.jpg
END:VEVENT
BEGIN:VEVENT
DTSTART;TZID=America/New_York:20260228T120000
DTEND;TZID=America/New_York:20260228T140000
DTSTAMP:20260420T051326
CREATED:20260127T185623Z
LAST-MODIFIED:20260127T185623Z
UID:2535-1772280000-1772287200@fireandiceontobycreek.com
SUMMARY:FIRE & ICE - Cocktail Class / The Bloody Mary
DESCRIPTION:
URL:https://fireandiceontobycreek.com/events/fire-ice-cocktail-class-the-bloody-mary/
LOCATION:Fire and Ice On Toby Creek\, 111 S Main St\,\, Trucksville\, PA\, 18708\, United States
CATEGORIES:Cocktail Class
ATTACH;FMTTYPE=image/jpeg:https://fireandiceontobycreek.com/wp-content/uploads/2026/01/bloody-mary-cocktail-class.jpg
END:VEVENT
END:VCALENDAR